BEGIN:VCALENDAR
VERSION:2.0
PRODID:-//Plone.org//NONSGML plone.app.event//EN
X-WR-TIMEZONE:America/Buenos_Aires
BEGIN:VEVENT
SUMMARY:Lançamento do Museu Digital da UNILA
DTSTART;TZID=America/Sao_Paulo;VALUE=DATE-TIME:20210930T190000
DTEND;TZID=America/Sao_Paulo;VALUE=DATE-TIME:20210930T200000
DTSTAMP;VALUE=DATE-TIME:20260423T092211Z
UID:6c3400e8e2504770bf13e1d57a896faa@portal.unila.edu.br
CATEGORIES:proex
CREATED;VALUE=DATE-TIME:20210924T180138Z
DESCRIPTION:Live de lançamento será no dia 30 de setembro\, às 19h\, pe
 lo YouTube
LAST-MODIFIED;VALUE=DATE-TIME:20210924T183154Z
URL:https://portal.unila.edu.br/eventos/lancamento-do-museu-digital-da-uni
 la
END:VEVENT
BEGIN:VTIMEZONE
TZID:America/Sao_Paulo
X-LIC-LOCATION:America/Sao_Paulo
BEGIN:STANDARD
DTSTART;VALUE=DATE-TIME:20210220T230000
TZNAME:BRT
TZOFFSETFROM:-0200
TZOFFSETTO:-0300
END:STANDARD
END:VTIMEZONE
END:VCALENDAR
