BEGIN:VCALENDAR
VERSION:2.0
PRODID:-//Plone.org//NONSGML plone.app.event//EN
X-WR-TIMEZONE:America/Buenos_Aires
BEGIN:VEVENT
SUMMARY:Lançamento do livro "Mulheres entre fronteiras: olhares interdisc
 iplinares desde o Sul"
DTSTART;TZID=America/Sao_Paulo;VALUE=DATE-TIME:20190729T190000
DTEND;TZID=America/Sao_Paulo;VALUE=DATE-TIME:20190729T210000
DTSTAMP;VALUE=DATE-TIME:20260422T131719Z
UID:bf0311ad68e94263b05a386fe4ed4a01@portal.unila.edu.br
CREATED;VALUE=DATE-TIME:20190722T174114Z
DESCRIPTION:A obra\, editada pela EDUNILA\, é organizada pela professora 
 Silvia Lilian Ferro e pela advogada Thaíse Vieira Thomé
LAST-MODIFIED;VALUE=DATE-TIME:20190724T121204Z
LOCATION:Centro de Convivência da OAB (Rua Perdigão\, 380 - Vila A)
URL:https://portal.unila.edu.br/eventos/lancamento-do-livro-mulheres-entre
 -fronteiras-olhares-interdisciplinares-desde-o-sul
END:VEVENT
BEGIN:VTIMEZONE
TZID:America/Sao_Paulo
X-LIC-LOCATION:America/Sao_Paulo
BEGIN:STANDARD
DTSTART;VALUE=DATE-TIME:20190216T230000
TZNAME:BRT
TZOFFSETFROM:-0200
TZOFFSETTO:-0300
END:STANDARD
END:VTIMEZONE
END:VCALENDAR
