BEGIN:VCALENDAR
VERSION:2.0
PRODID:-//Plone.org//NONSGML plone.app.event//EN
X-WR-TIMEZONE:America/Buenos_Aires
BEGIN:VEVENT
SUMMARY:Lançamento do livro "La diversidad en el sistema mundial capitali
 sta".
DTSTART;TZID=America/Buenos_Aires;VALUE=DATE-TIME:20220428T190000
DTEND;TZID=America/Buenos_Aires;VALUE=DATE-TIME:20220428T220000
DTSTAMP;VALUE=DATE-TIME:20260424T032637Z
UID:b8a36bb13e654a6e90d2f4f5fda65f4d@portal.unila.edu.br
CREATED;VALUE=DATE-TIME:20220425T145000Z
DESCRIPTION:O GEMP recebe os autores do livro para conversa sobre a obra.
LAST-MODIFIED;VALUE=DATE-TIME:20220427T183112Z
LOCATION:Canal GEMP Youtube: https://www.youtube.com/watch?v=uB5r6JwXe2g
URL:https://portal.unila.edu.br/eventos/lancamento-do-livro-la-diversidad-
 en-el-sistema-mundial-capitalista-1
END:VEVENT
BEGIN:VTIMEZONE
TZID:America/Buenos_Aires
X-LIC-LOCATION:America/Buenos_Aires
BEGIN:STANDARD
DTSTART;VALUE=DATE-TIME:20090314T230000
TZNAME:ART
TZOFFSETFROM:-0200
TZOFFSETTO:-0300
END:STANDARD
END:VTIMEZONE
END:VCALENDAR
