BEGIN:VCALENDAR
VERSION:2.0
PRODID:-//Plone.org//NONSGML plone.app.event//EN
X-WR-TIMEZONE:America/Buenos_Aires
BEGIN:VEVENT
SUMMARY:Lançamento do livro “Por um ensino insurgente em arquitetura e 
 urbanismo”
DTSTART;TZID=America/Sao_Paulo;VALUE=DATE-TIME:20210505T180000
DTEND;TZID=America/Sao_Paulo;VALUE=DATE-TIME:20210505T200000
DTSTAMP;VALUE=DATE-TIME:20260423T151532Z
UID:0b15f4a7cef945b08bda2a17eed2fdfe@portal.unila.edu.br
CATEGORIES:arquitetura
CREATED;VALUE=DATE-TIME:20210426T200220Z
DESCRIPTION:A obra será lançada em duas mesas temáticas\, que serão re
 alizadas nos dias 3 e 5 de maio
LAST-MODIFIED;VALUE=DATE-TIME:20210504T155516Z
URL:https://portal.unila.edu.br/eventos/lancamento-do-livro-201cpor-um-ens
 ino-insurgente-em-arquitetura-e-urbanismo201d
END:VEVENT
BEGIN:VTIMEZONE
TZID:America/Sao_Paulo
X-LIC-LOCATION:America/Sao_Paulo
BEGIN:STANDARD
DTSTART;VALUE=DATE-TIME:20210220T230000
TZNAME:BRT
TZOFFSETFROM:-0200
TZOFFSETTO:-0300
END:STANDARD
END:VTIMEZONE
END:VCALENDAR
