BEGIN:VCALENDAR
VERSION:2.0
PRODID:-//Plone.org//NONSGML plone.app.event//EN
X-WR-TIMEZONE:America/Buenos_Aires
BEGIN:VEVENT
SUMMARY:Lançamento do livro “Fronteiras e Relações Internacionais: pe
 rspectivas a partir do Cone Sul”
DTSTART;TZID=America/Sao_Paulo;VALUE=DATE-TIME:20210224T190000
DTEND;TZID=America/Sao_Paulo;VALUE=DATE-TIME:20210224T210000
DTSTAMP;VALUE=DATE-TIME:20260423T225913Z
UID:1a7b6c4cc46b452ea2cbe1f75651192a@portal.unila.edu.br
CREATED;VALUE=DATE-TIME:20210222T183817Z
DESCRIPTION:Professores da UNILA lançam livro sobre questões fronteiriç
 as\, na próxima quarta-feira (24)\, às 19h
LAST-MODIFIED;VALUE=DATE-TIME:20210222T184401Z
URL:https://portal.unila.edu.br/eventos/lancamento-do-livro-201cfronteiras
 -e-relacoes-internacionais-perspectivas-a-partir-do-cone-sul201d
END:VEVENT
BEGIN:VTIMEZONE
TZID:America/Sao_Paulo
X-LIC-LOCATION:America/Sao_Paulo
BEGIN:STANDARD
DTSTART;VALUE=DATE-TIME:20210220T230000
TZNAME:BRT
TZOFFSETFROM:-0200
TZOFFSETTO:-0300
END:STANDARD
END:VTIMEZONE
END:VCALENDAR
