BEGIN:VCALENDAR
VERSION:2.0
PRODID:-//Plone.org//NONSGML plone.app.event//EN
X-WR-TIMEZONE:America/Buenos_Aires
BEGIN:VEVENT
SUMMARY:Lançamento do e-book "Disputando narrativas: uma abordagem críti
 ca sobre a Base Nacional Comum Curricular"
DTSTART;TZID=America/Buenos_Aires;VALUE=DATE-TIME:20220601T190000
DTEND;TZID=America/Buenos_Aires;VALUE=DATE-TIME:20220601T210000
DTSTAMP;VALUE=DATE-TIME:20260424T010123Z
UID:df269b3c18ea475e84dcfea8d415f0a3@portal.unila.edu.br
CONTACT:https://docs.google.com/forms/d/e/1FAIpQLSe9px6EujOLxqrGUwIY9vB96Q
 gBa0v-RaqG9m4tnYx1xOQDJA/viewform
CREATED;VALUE=DATE-TIME:20220530T115506Z
DESCRIPTION:Livro é resultado do projeto de extensão intitulado “Rede 
 de diálogo: a educação em debate”
LAST-MODIFIED;VALUE=DATE-TIME:20220530T124219Z
LOCATION:Auditório do Jardim Universitário
URL:https://portal.unila.edu.br/eventos/lancamento-do-e-book-disputando-na
 rrativas-uma-abordagem-critica-sobre-a-base-nacional-comum-curricular
END:VEVENT
BEGIN:VTIMEZONE
TZID:America/Buenos_Aires
X-LIC-LOCATION:America/Buenos_Aires
BEGIN:STANDARD
DTSTART;VALUE=DATE-TIME:20090314T230000
TZNAME:ART
TZOFFSETFROM:-0200
TZOFFSETTO:-0300
END:STANDARD
END:VTIMEZONE
END:VCALENDAR
