BEGIN:VCALENDAR
VERSION:2.0
PRODID:-//Plone.org//NONSGML plone.app.event//EN
X-WR-TIMEZONE:America/Buenos_Aires
BEGIN:VEVENT
SUMMARY:Lançamento do "Dossiê Cineclube Cinelatino"
DTSTART;TZID=America/Buenos_Aires;VALUE=DATE-TIME:20211215T190000
DTEND;TZID=America/Buenos_Aires;VALUE=DATE-TIME:20211215T210000
DTSTAMP;VALUE=DATE-TIME:20260423T225053Z
UID:49de49d422ee494ca076ef2ca20ed9e0@portal.unila.edu.br
CREATED;VALUE=DATE-TIME:20211213T195801Z
DESCRIPTION:Live de lançamento será no dia 15 de dezembro\, às 19h
LAST-MODIFIED;VALUE=DATE-TIME:20211213T201347Z
URL:https://portal.unila.edu.br/eventos/lancamento-do-dossie-cineclube-cin
 elatino
END:VEVENT
BEGIN:VTIMEZONE
TZID:America/Buenos_Aires
X-LIC-LOCATION:America/Buenos_Aires
BEGIN:STANDARD
DTSTART;VALUE=DATE-TIME:20090314T230000
TZNAME:ART
TZOFFSETFROM:-0200
TZOFFSETTO:-0300
END:STANDARD
END:VTIMEZONE
END:VCALENDAR
