BEGIN:VCALENDAR
VERSION:2.0
PRODID:-//Plone.org//NONSGML plone.app.event//EN
X-WR-TIMEZONE:America/Buenos_Aires
BEGIN:VEVENT
SUMMARY:Lançamento de livros
DTSTART;TZID=America/Buenos_Aires;VALUE=DATE-TIME:20220308T140000
DTEND;TZID=America/Buenos_Aires;VALUE=DATE-TIME:20220308T160000
DTSTAMP;VALUE=DATE-TIME:20260423T210017Z
UID:e0075a8d1d9a48ffba0e621d82ca1282@portal.unila.edu.br
CREATED;VALUE=DATE-TIME:20220210T200613Z
DESCRIPTION:O Grupo de Pesquisa sobre Trabalho promove\, no dia 8 março\,
  às 14h\, o lançamento de dois livros\; o evento terá transmissão onli
 ne
LAST-MODIFIED;VALUE=DATE-TIME:20220210T201627Z
URL:https://portal.unila.edu.br/eventos/lancamento-de-livros
END:VEVENT
BEGIN:VTIMEZONE
TZID:America/Buenos_Aires
X-LIC-LOCATION:America/Buenos_Aires
BEGIN:STANDARD
DTSTART;VALUE=DATE-TIME:20090314T230000
TZNAME:ART
TZOFFSETFROM:-0200
TZOFFSETTO:-0300
END:STANDARD
END:VTIMEZONE
END:VCALENDAR
