BEGIN:VCALENDAR
VERSION:2.0
PRODID:-//Plone.org//NONSGML plone.app.event//EN
X-WR-TIMEZONE:America/Buenos_Aires
BEGIN:VEVENT
SUMMARY:Lançamento de Livro
DTSTART;TZID=America/Buenos_Aires;VALUE=DATE-TIME:20230814T150000
DTSTAMP;VALUE=DATE-TIME:20260423T200540Z
UID:af12508d195c4a83aba4b1695a0cb79e@portal.unila.edu.br
CREATED;VALUE=DATE-TIME:20230814T125808Z
DESCRIPTION:Lançamento do livro Protestas en los tiempos de las cóleras 
 pela CLACSO conta com pesquisadora da UNILA como uma das autoras
LAST-MODIFIED;VALUE=DATE-TIME:20230814T125812Z
LOCATION:Remoto
URL:https://portal.unila.edu.br/eventos/lancamento-de-livro-1
END:VEVENT
BEGIN:VTIMEZONE
TZID:America/Buenos_Aires
X-LIC-LOCATION:America/Buenos_Aires
BEGIN:STANDARD
DTSTART;VALUE=DATE-TIME:20090314T230000
TZNAME:ART
TZOFFSETFROM:-0200
TZOFFSETTO:-0300
END:STANDARD
END:VTIMEZONE
END:VCALENDAR
