BEGIN:VCALENDAR
VERSION:2.0
PRODID:-//Plone.org//NONSGML plone.app.event//EN
X-WR-TIMEZONE:America/Buenos_Aires
BEGIN:VEVENT
SUMMARY:Lançamento da exposição Fayga Ostrower: "a beleza pode curar"
DTSTART;TZID=America/Buenos_Aires;VALUE=DATE-TIME:20220708T190000
DTEND;TZID=America/Buenos_Aires;VALUE=DATE-TIME:20220708T200000
DTSTAMP;VALUE=DATE-TIME:20260423T225233Z
UID:8ba757d58b4440b5a9ebc34d5e9612dc@portal.unila.edu.br
CONTACT:https://portal.unila.edu.br/informes/museu-digital-da-unila
CREATED;VALUE=DATE-TIME:20220705T142627Z
DESCRIPTION:PROEX\, Museu Digital da UNILA e Museu de Arte de Cascavel lan
 çam exposição das obras de Fayga Ostrower
LAST-MODIFIED;VALUE=DATE-TIME:20220705T183217Z
LOCATION:Museu de Arte de Cascavel - MAC
URL:https://portal.unila.edu.br/eventos/lancamento-da-exposicao-fayga-ostr
 ower-a-beleza-pode-curar
END:VEVENT
BEGIN:VTIMEZONE
TZID:America/Buenos_Aires
X-LIC-LOCATION:America/Buenos_Aires
BEGIN:STANDARD
DTSTART;VALUE=DATE-TIME:20090314T230000
TZNAME:ART
TZOFFSETFROM:-0200
TZOFFSETTO:-0300
END:STANDARD
END:VTIMEZONE
END:VCALENDAR
