BEGIN:VCALENDAR
VERSION:2.0
PRODID:-//Plone.org//NONSGML plone.app.event//EN
X-WR-TIMEZONE:America/Buenos_Aires
BEGIN:VEVENT
SUMMARY:Lançamento da cartilha "Morar na Barranca – Argentina\, Brasil\
 , Paraguai"
DTSTART;TZID=America/Sao_Paulo;VALUE=DATE-TIME:20190404T190000
DTEND;TZID=America/Sao_Paulo;VALUE=DATE-TIME:20190404T213000
DTSTAMP;VALUE=DATE-TIME:20260424T010757Z
UID:6aa8b2d2ef56444190ac70544101f4cd@portal.unila.edu.br
CREATED;VALUE=DATE-TIME:20190327T131715Z
DESCRIPTION:A publicação digital Morar na Barranca – Argentina\, Brasi
 l\, Paraguai é fruto de uma pesquisa desenvolvida por docentes e acadêmi
 cos do curso de Arquitetura e Urbanismo da UNILA.
LAST-MODIFIED;VALUE=DATE-TIME:20190328T125546Z
LOCATION:Sala C203 - UNILA - Jardim Universitário - Av. Tarquínio Joslin
  dos Santos\, 1000
URL:https://portal.unila.edu.br/eventos/lancamento-da-cartilha-morar-na-ba
 rranca-2013-argentina-brasil-paraguai
END:VEVENT
BEGIN:VTIMEZONE
TZID:America/Sao_Paulo
X-LIC-LOCATION:America/Sao_Paulo
BEGIN:STANDARD
DTSTART;VALUE=DATE-TIME:20190216T230000
TZNAME:BRT
TZOFFSETFROM:-0200
TZOFFSETTO:-0300
END:STANDARD
END:VTIMEZONE
END:VCALENDAR
