BEGIN:VCALENDAR
VERSION:2.0
PRODID:-//Plone.org//NONSGML plone.app.event//EN
X-WR-TIMEZONE:America/Buenos_Aires
BEGIN:VEVENT
SUMMARY:Laboratorio de escritura “Cuerpos urgentes” / Arder en la Fron
 tera
DTSTART;TZID=America/Buenos_Aires;VALUE=DATE-TIME:20230502T120000
DTEND;TZID=America/Buenos_Aires;VALUE=DATE-TIME:20230524T120000
DTSTAMP;VALUE=DATE-TIME:20260423T202458Z
UID:d420a5037e5649cd84e94ed517692e13@portal.unila.edu.br
CONTACT:+5491134845647\, arder.enlafrontera@gmail.com\, https://www.instag
 ram.com/p/Cq9YNGONBcK/?utm_source=ig_web_copy_link
CREATED;VALUE=DATE-TIME:20230413T162343Z
DESCRIPTION:Pensar a la construcción de lo poético\, las maneras contemp
 oráneas en la que se\nconstruye\, mas allá de los libros y la palabra es
 crita.
LAST-MODIFIED;VALUE=DATE-TIME:20230413T162527Z
LOCATION:Online
URL:https://portal.unila.edu.br/eventos/laboratorio-de-escritura-201ccuerp
 os-urgentes201d-arder-en-la-frontera
END:VEVENT
BEGIN:VTIMEZONE
TZID:America/Buenos_Aires
X-LIC-LOCATION:America/Buenos_Aires
BEGIN:STANDARD
DTSTART;VALUE=DATE-TIME:20090314T230000
TZNAME:ART
TZOFFSETFROM:-0200
TZOFFSETTO:-0300
END:STANDARD
END:VTIMEZONE
END:VCALENDAR
