BEGIN:VCALENDAR
VERSION:2.0
PRODID:-//Plone.org//NONSGML plone.app.event//EN
X-WR-TIMEZONE:America/Buenos_Aires
BEGIN:VEVENT
SUMMARY:Kilombo como Prática para Transgredir
DTSTART;TZID=America/Buenos_Aires;VALUE=DATE-TIME:20240926T150000
DTSTAMP;VALUE=DATE-TIME:20260423T210020Z
UID:1231a31f184345b78deabe2029fc0e8f@portal.unila.edu.br
CONTACT:https://sites.google.com/view/campanha-ocupatrans-2024/conhe%C3%A7
 a
CREATED;VALUE=DATE-TIME:20240924T114429Z
DESCRIPTION:Oficina “Kilombo como Prática para Transgredir” ocorre na
  próxima quinta-feira (26)\, no Campus Integração. Atividade faz parte 
 da Campanha OcupaTrans.
LAST-MODIFIED;VALUE=DATE-TIME:20240924T114436Z
LOCATION:UNILA-Campus Integração
URL:https://portal.unila.edu.br/eventos/kilombo-como-pratica-para-transgre
 dir
END:VEVENT
BEGIN:VTIMEZONE
TZID:America/Buenos_Aires
X-LIC-LOCATION:America/Buenos_Aires
BEGIN:STANDARD
DTSTART;VALUE=DATE-TIME:20090314T230000
TZNAME:ART
TZOFFSETFROM:-0200
TZOFFSETTO:-0300
END:STANDARD
END:VTIMEZONE
END:VCALENDAR
