BEGIN:VCALENDAR
VERSION:2.0
PRODID:-//Plone.org//NONSGML plone.app.event//EN
X-WR-TIMEZONE:America/Buenos_Aires
BEGIN:VEVENT
SUMMARY:Jornada artístico-pedagógica com Carolina Teixeira: poética pro
 tética - deficiência em performance e diálogos com a educação
DTSTART;TZID=America/Buenos_Aires;VALUE=DATE-TIME:20240520T170000
DTEND;TZID=America/Buenos_Aires;VALUE=DATE-TIME:20240520T180000
DTSTAMP;VALUE=DATE-TIME:20260423T230244Z
UID:935872287a0c41c989cd62f33e4120bf@portal.unila.edu.br
CREATED;VALUE=DATE-TIME:20240517T011118Z
DESCRIPTION:A Jornada Artístico-Pedagógica recebe inscrições online\, 
 até o dia 17 de maio.
LAST-MODIFIED;VALUE=DATE-TIME:20240517T013742Z
URL:https://portal.unila.edu.br/eventos/jornada-artistico-pedagogica-com-c
 arolina-teixeira-poetica-protetica-deficiencia-em-performance-e-dialogos-c
 om-a-educacao
END:VEVENT
BEGIN:VTIMEZONE
TZID:America/Buenos_Aires
X-LIC-LOCATION:America/Buenos_Aires
BEGIN:STANDARD
DTSTART;VALUE=DATE-TIME:20090314T230000
TZNAME:ART
TZOFFSETFROM:-0200
TZOFFSETTO:-0300
END:STANDARD
END:VTIMEZONE
END:VCALENDAR
