BEGIN:VCALENDAR
VERSION:2.0
PRODID:-//Plone.org//NONSGML plone.app.event//EN
X-WR-TIMEZONE:America/Buenos_Aires
BEGIN:VEVENT
SUMMARY:IX Semana Acadêmica de Química
DTSTART;VALUE=DATE:20240819
DTEND;VALUE=DATE:20240822
DTSTAMP;VALUE=DATE-TIME:20260424T031957Z
UID:8a4b491cb58e4eb094c1302a23d79ec3@portal.unila.edu.br
CONTACT:https://sig.unila.edu.br/eventos/public/evento/SAQ2024/principal/v
 iew
CREATED;VALUE=DATE-TIME:20240807T163307Z
DESCRIPTION:Semana acontece com programação diversa entre os dias 19 e 2
 1 de agosto.
LAST-MODIFIED;VALUE=DATE-TIME:20240807T163315Z
LOCATION:Auditório da UNILA-Jardim Universitário (Avenida Tarquínio Jos
 lin dos Santos\, 1000)
URL:https://portal.unila.edu.br/eventos/ix-semana-academica-de-quimica
END:VEVENT
END:VCALENDAR
