BEGIN:VCALENDAR
VERSION:2.0
PRODID:-//Plone.org//NONSGML plone.app.event//EN
X-WR-TIMEZONE:America/Buenos_Aires
BEGIN:VEVENT
SUMMARY:IV Seminário Trabalho e Trabalhadores na América Latina e Caribe
DTSTART;VALUE=DATE:20230307
DTEND;VALUE=DATE:20230308
DTSTAMP;VALUE=DATE-TIME:20260423T145827Z
UID:0336bff03cea46e6afb526e27bf935e5@portal.unila.edu.br
RRULE:FREQ=DAILY;COUNT=1
RDATE;TZID=America/Buenos_Aires:20230519T000000
CONTACT:https://trabalhoetrabalhadoresnaamericalatinaecaribe.net/
CREATED;VALUE=DATE-TIME:20230306T174204Z
DESCRIPTION:Quarta edição do evento tem como tema "internacionalismo\, s
 uperexploração e classe trabalhadora hoje".
LAST-MODIFIED;VALUE=DATE-TIME:20231005T132040Z
LOCATION:Auditório do Campus Integração e Online
URL:https://portal.unila.edu.br/eventos/iv-seminario-trabalho-e-trabalhado
 res-na-america-latina-e-caribe
END:VEVENT
END:VCALENDAR
