BEGIN:VCALENDAR
VERSION:2.0
PRODID:-//Plone.org//NONSGML plone.app.event//EN
X-WR-TIMEZONE:America/Buenos_Aires
BEGIN:VEVENT
SUMMARY:IV Seminário Trabalho e Trabalhadores na América Latina e Caribe
DTSTART;VALUE=DATE:20230519
DTEND;VALUE=DATE:20230520
DTSTAMP;VALUE=DATE-TIME:20260423T225841Z
UID:784be7b911c242019472f01082348747@portal.unila.edu.br
CONTACT:https://trabalhoetrabalhadoresnaamericalatinaecaribe.net/
CREATED;VALUE=DATE-TIME:20230921T150322Z
DESCRIPTION:Quarta edição do evento tem como tema "internacionalismo\, s
 uperexploração e classe trabalhadora hoje".
LAST-MODIFIED;VALUE=DATE-TIME:20230921T150337Z
LOCATION:Auditório da UNILA-Jardim Universitário (Avenida Tarquínio Jos
 lin dos Santos\, 1000)
URL:https://portal.unila.edu.br/eventos/iv-seminario-trabalho-e-trabalhado
 res-na-america-latina-e-caribe-2
END:VEVENT
END:VCALENDAR
