BEGIN:VCALENDAR
VERSION:2.0
PRODID:-//Plone.org//NONSGML plone.app.event//EN
X-WR-TIMEZONE:America/Buenos_Aires
BEGIN:VEVENT
SUMMARY:IV Jornadas Interdisciplinares de Estudos Sociais Latino-Americano
 s
DTSTART;VALUE=DATE:20241106
DTEND;VALUE=DATE:20241109
DTSTAMP;VALUE=DATE-TIME:20260423T231140Z
UID:6889aeaeaa3f4a52afb0fc0d308d65dd@portal.unila.edu.br
CONTACT:https://www.even3.com.br/iv-jieslat-jornadas-interdisciplinares-de
 -estudos-sociais-latino-americanos-441927/
CREATED;VALUE=DATE-TIME:20240711T144746Z
DESCRIPTION:IV JIESLAT acontece em novembro na UNILA-Jardim Universitário
 . Inscrições para submissão de minicursos vão até 31 de agosto.
LAST-MODIFIED;VALUE=DATE-TIME:20240711T144752Z
LOCATION:UNILA-Jardim Universitário
URL:https://portal.unila.edu.br/eventos/iv-jornadas-interdisciplinares-de-
 estudos-sociais-latino-americanos
END:VEVENT
END:VCALENDAR
