BEGIN:VCALENDAR
VERSION:2.0
PRODID:-//Plone.org//NONSGML plone.app.event//EN
X-WR-TIMEZONE:America/Buenos_Aires
BEGIN:VEVENT
SUMMARY:Intervenção Musical em homenagem ao Dia Internacional da Mulher
DTSTART;TZID=America/Sao_Paulo;VALUE=DATE-TIME:20190308T110000
DTSTAMP;VALUE=DATE-TIME:20260423T225539Z
UID:2ad784dc1a4348ef967c135cc604b876@portal.unila.edu.br
CREATED;VALUE=DATE-TIME:20190307T202319Z
DESCRIPTION:Curso de Música da UNILA fará apresentação no Terminal de 
 Transporte Urbano de Foz do Iguaçu
LAST-MODIFIED;VALUE=DATE-TIME:20190307T202333Z
URL:https://portal.unila.edu.br/eventos/intervencao-musical-em-homenagem-a
 o-dia-internacional-da-mulher
END:VEVENT
BEGIN:VTIMEZONE
TZID:America/Sao_Paulo
X-LIC-LOCATION:America/Sao_Paulo
BEGIN:STANDARD
DTSTART;VALUE=DATE-TIME:20190216T230000
TZNAME:BRT
TZOFFSETFROM:-0200
TZOFFSETTO:-0300
END:STANDARD
END:VTIMEZONE
END:VCALENDAR
