BEGIN:VCALENDAR
VERSION:2.0
PRODID:-//Plone.org//NONSGML plone.app.event//EN
X-WR-TIMEZONE:America/Buenos_Aires
BEGIN:VEVENT
SUMMARY:IntegrAÇÃO UNILA - UNILA na Feira
DTSTART;TZID=America/Buenos_Aires;VALUE=DATE-TIME:20231210T080000
DTEND;TZID=America/Buenos_Aires;VALUE=DATE-TIME:20231210T120000
DTSTAMP;VALUE=DATE-TIME:20260421T185026Z
UID:20a1585ac38a45749fbcdde0218d470b@portal.unila.edu.br
CREATED;VALUE=DATE-TIME:20231206T132341Z
DESCRIPTION:Iniciativa da PROEX leva serviços de saúde à Feirinha da JK
LAST-MODIFIED;VALUE=DATE-TIME:20231207T181533Z
LOCATION:Feira da JK
URL:https://portal.unila.edu.br/eventos/integracao-unila-unila-na-feira
END:VEVENT
BEGIN:VTIMEZONE
TZID:America/Buenos_Aires
X-LIC-LOCATION:America/Buenos_Aires
BEGIN:STANDARD
DTSTART;VALUE=DATE-TIME:20090314T230000
TZNAME:ART
TZOFFSETFROM:-0200
TZOFFSETTO:-0300
END:STANDARD
END:VTIMEZONE
END:VCALENDAR
