BEGIN:VCALENDAR
VERSION:2.0
PRODID:-//Plone.org//NONSGML plone.app.event//EN
X-WR-TIMEZONE:America/Buenos_Aires
BEGIN:VEVENT
SUMMARY:InnovaCities
DTSTART;VALUE=DATE:20250915
DTEND;VALUE=DATE:20250918
DTSTAMP;VALUE=DATE-TIME:20260424T084037Z
UID:82f4b077c84f4e82ad445134b15a1ffa@portal.unila.edu.br
CREATED;VALUE=DATE-TIME:20250627T141855Z
DESCRIPTION:A InnovaCities é uma feira internacional aberta ao público e
  será realizada de 15 a 17 de setembro\, em Foz do Iguaçu. A UNILA é co
 organizadora do evento.
LAST-MODIFIED;VALUE=DATE-TIME:20250807T192001Z
LOCATION:Hotel Recanto Cataratas Thermas
URL:https://portal.unila.edu.br/eventos/innovacities
END:VEVENT
END:VCALENDAR
