BEGIN:VCALENDAR
VERSION:2.0
PRODID:-//Plone.org//NONSGML plone.app.event//EN
X-WR-TIMEZONE:America/Buenos_Aires
BEGIN:VEVENT
SUMMARY:Inauguração Restaurante Universitário do JU
DTSTART;TZID=America/Buenos_Aires;VALUE=DATE-TIME:20250403T110000
DTSTAMP;VALUE=DATE-TIME:20260423T225512Z
UID:4364f0c41392474d88d59e4c2e3fd58e@portal.unila.edu.br
CREATED;VALUE=DATE-TIME:20250401T111152Z
DESCRIPTION:Cerimônia de inauguração será realizada na quinta-feira (3
 )\, às 11h\, e contará com apresentações culturais.
LAST-MODIFIED;VALUE=DATE-TIME:20250401T111228Z
URL:https://portal.unila.edu.br/eventos/inauguracao-restaurante-universita
 rio-do-ju
END:VEVENT
BEGIN:VTIMEZONE
TZID:America/Buenos_Aires
X-LIC-LOCATION:America/Buenos_Aires
BEGIN:STANDARD
DTSTART;VALUE=DATE-TIME:20090314T230000
TZNAME:ART
TZOFFSETFROM:-0200
TZOFFSETTO:-0300
END:STANDARD
END:VTIMEZONE
END:VCALENDAR
