BEGIN:VCALENDAR
VERSION:2.0
PRODID:-//Plone.org//NONSGML plone.app.event//EN
X-WR-TIMEZONE:America/Buenos_Aires
BEGIN:VEVENT
SUMMARY:Inauguração do Espacio Biblioteca\, Artes y Ciencias
DTSTART;TZID=America/Sao_Paulo;VALUE=DATE-TIME:20190906T100000
DTEND;TZID=America/Sao_Paulo;VALUE=DATE-TIME:20190906T120000
DTSTAMP;VALUE=DATE-TIME:20260423T231115Z
UID:4f12ab08f5794c8eb1873ea147edfbbc@portal.unila.edu.br
CREATED;VALUE=DATE-TIME:20190822T114453Z
DESCRIPTION:O projeto "Vivendo livros latino-americanos na Tríplice Front
 eira" inaugura mais uma biblioteca escolar\, em Puerto Iguazú
LAST-MODIFIED;VALUE=DATE-TIME:20190822T120446Z
LOCATION:Escuela 722 (Eduardo Horacio Arrabal - Puerto Iguazú)
URL:https://portal.unila.edu.br/eventos/inauguracao-do-espacio-biblioteca-
 artes-y-ciencias-puerto-iguazu
END:VEVENT
BEGIN:VTIMEZONE
TZID:America/Sao_Paulo
X-LIC-LOCATION:America/Sao_Paulo
BEGIN:STANDARD
DTSTART;VALUE=DATE-TIME:20190216T230000
TZNAME:BRT
TZOFFSETFROM:-0200
TZOFFSETTO:-0300
END:STANDARD
END:VTIMEZONE
END:VCALENDAR
