BEGIN:VCALENDAR
VERSION:2.0
PRODID:-//Plone.org//NONSGML plone.app.event//EN
X-WR-TIMEZONE:America/Buenos_Aires
BEGIN:VEVENT
SUMMARY:III Seminário de Políticas Públicas na América Latina: Inovaç
 ões e Integração Regional
DTSTART;TZID=America/Buenos_Aires;VALUE=DATE-TIME:20241128T140000
DTEND;TZID=America/Buenos_Aires;VALUE=DATE-TIME:20241129T180000
DTSTAMP;VALUE=DATE-TIME:20260424T102920Z
UID:8b2cb745253d48ce96bf32d34bd816b3@portal.unila.edu.br
CREATED;VALUE=DATE-TIME:20240822T142411Z
DESCRIPTION:O evento será online e ocorrerá nos dias 28 e 29 de novembro
  de 2024. Submissão de trabalhos vão até o dia 30 de setembro
LAST-MODIFIED;VALUE=DATE-TIME:20240916T160429Z
LOCATION:Online
URL:https://portal.unila.edu.br/eventos/iii-seminario-de-politicas-publica
 s-na-america-latina-inovacoes-e-integracao-regional
END:VEVENT
BEGIN:VTIMEZONE
TZID:America/Buenos_Aires
X-LIC-LOCATION:America/Buenos_Aires
BEGIN:STANDARD
DTSTART;VALUE=DATE-TIME:20090314T230000
TZNAME:ART
TZOFFSETFROM:-0200
TZOFFSETTO:-0300
END:STANDARD
END:VTIMEZONE
END:VCALENDAR
