BEGIN:VCALENDAR
VERSION:2.0
PRODID:-//Plone.org//NONSGML plone.app.event//EN
X-WR-TIMEZONE:America/Buenos_Aires
BEGIN:VEVENT
SUMMARY:III Semana Acadêmicas de Letras
DTSTART;VALUE=DATE:20181105
DTEND;VALUE=DATE:20181110
DTSTAMP;VALUE=DATE-TIME:20260423T210019Z
UID:25a30f6c154d49c19f8c40ea38ca76b6@tibagi.unila
CREATED;VALUE=DATE-TIME:20181101T174431Z
LAST-MODIFIED;VALUE=DATE-TIME:20190112T022528Z
LOCATION:UNILA Jardim Universitário - Av. Tarquínio Joslin dos Santos\, 
 1000
URL:https://portal.unila.edu.br/eventos/iii-semana-academicas-de-letras
END:VEVENT
END:VCALENDAR
