BEGIN:VCALENDAR
VERSION:2.0
PRODID:-//Plone.org//NONSGML plone.app.event//EN
X-WR-TIMEZONE:America/Buenos_Aires
BEGIN:VEVENT
SUMMARY:III Semana Acadêmicas de Administração Pública
DTSTART;VALUE=DATE:20181105
DTEND;VALUE=DATE:20181110
DTSTAMP;VALUE=DATE-TIME:20260423T182553Z
UID:9fe061a9f804425b8b5796742ea530c4@tibagi.unila
CATEGORIES:Semana Acadêmica
CONTACT:https://www.doity.com.br/3-semana-academica-de-administracao--unil
 a
CREATED;VALUE=DATE-TIME:20181101T174333Z
DESCRIPTION:Desafios e possibilidades no Campo de Públicas
LAST-MODIFIED;VALUE=DATE-TIME:20190112T022528Z
LOCATION:UNILA PTI - Avenida Tancredo Neves
URL:https://portal.unila.edu.br/eventos/iii-semana-academicas-de-administr
 acao-publica
END:VEVENT
END:VCALENDAR
