BEGIN:VCALENDAR
VERSION:2.0
PRODID:-//Plone.org//NONSGML plone.app.event//EN
X-WR-TIMEZONE:America/Buenos_Aires
BEGIN:VEVENT
SUMMARY:Formação de professores de Português para Estrangeiros
DTSTART;TZID=America/Sao_Paulo;VALUE=DATE-TIME:20190923T083000
DTEND;TZID=America/Sao_Paulo;VALUE=DATE-TIME:20190924T170000
DTSTAMP;VALUE=DATE-TIME:20260422T050509Z
UID:40de5652200746e9ab6e1bf1d1996143@portal.unila.edu.br
CATEGORIES:letras português e espanhol
CREATED;VALUE=DATE-TIME:20190812T120438Z
DESCRIPTION:A 3ª Oficina de Formação de Coordenadores e Professores de 
 Português para Estrangeiros\, é promovida pelo Programa Idiomas sem Fron
 teiras será nos dias 23 e 24 de setembro
LAST-MODIFIED;VALUE=DATE-TIME:20190917T191340Z
LOCATION:Universidade Federal do Amazonas (UFAM) - Auditório do Rio Jatap
 ú
URL:https://portal.unila.edu.br/eventos/iii-oficina-de-formacao-de-coorden
 adores-e-professores-de-portugues-para-estrang
END:VEVENT
BEGIN:VTIMEZONE
TZID:America/Sao_Paulo
X-LIC-LOCATION:America/Sao_Paulo
BEGIN:STANDARD
DTSTART;VALUE=DATE-TIME:20190216T230000
TZNAME:BRT
TZOFFSETFROM:-0200
TZOFFSETTO:-0300
END:STANDARD
END:VTIMEZONE
END:VCALENDAR
