BEGIN:VCALENDAR
VERSION:2.0
PRODID:-//Plone.org//NONSGML plone.app.event//EN
X-WR-TIMEZONE:America/Buenos_Aires
BEGIN:VEVENT
SUMMARY:III Encontro do Fórum Permanente pelas Árvores
DTSTART;VALUE=DATE:20231024
DTEND;VALUE=DATE:20231027
DTSTAMP;VALUE=DATE-TIME:20260423T225227Z
UID:692b19c6c97745e3af59891996085d8c@portal.unila.edu.br
CONTACT:https://forms.gle/LSME7fSBLtGBY4Z19
CREATED;VALUE=DATE-TIME:20231019T125346Z
DESCRIPTION:Atividade é promovida pelo Observatório Educador Ambiental M
 oema Viezer (OBEAMV)
LAST-MODIFIED;VALUE=DATE-TIME:20231019T125451Z
LOCATION:UNILA-Campus Integração
URL:https://portal.unila.edu.br/eventos/iii-encontro-do-forum-permanente-p
 elas-arvores
END:VEVENT
END:VCALENDAR
