BEGIN:VCALENDAR
VERSION:2.0
PRODID:-//Plone.org//NONSGML plone.app.event//EN
X-WR-TIMEZONE:America/Buenos_Aires
BEGIN:VEVENT
SUMMARY:III Congresso de Internacionalização da Educação Superior - CI
 ES
DTSTART;TZID=America/Buenos_Aires;VALUE=DATE-TIME:20230830T120000
DTEND;TZID=America/Buenos_Aires;VALUE=DATE-TIME:20230901T210000
DTSTAMP;VALUE=DATE-TIME:20260423T225224Z
UID:790ee18333484652b69ec7cbb2c07e32@portal.unila.edu.br
CONTACT:45984041306\, congressoies@gmail.com\, https://sites.google.com/vi
 ew/cies2023
CREATED;VALUE=DATE-TIME:20230413T163417Z
DESCRIPTION:O evento contará com a participação de especialistas e esta
 belecerá espaço para debate e reflexão sobre os processos de  Internaci
 onalização das Instituições de Ensino Superior.
LAST-MODIFIED;VALUE=DATE-TIME:20230830T170637Z
URL:https://portal.unila.edu.br/eventos/iii-congresso-de-internacionalizac
 ao-da-educacao-superior-cies
END:VEVENT
BEGIN:VTIMEZONE
TZID:America/Buenos_Aires
X-LIC-LOCATION:America/Buenos_Aires
BEGIN:STANDARD
DTSTART;VALUE=DATE-TIME:20090314T230000
TZNAME:ART
TZOFFSETFROM:-0200
TZOFFSETTO:-0300
END:STANDARD
END:VTIMEZONE
END:VCALENDAR
