BEGIN:VCALENDAR
VERSION:2.0
PRODID:-//Plone.org//NONSGML plone.app.event//EN
X-WR-TIMEZONE:America/Buenos_Aires
BEGIN:VEVENT
SUMMARY:2ª SIEPE
DTSTART;TZID=America/Sao_Paulo;VALUE=DATE-TIME:20191022T080000
DTEND;TZID=America/Sao_Paulo;VALUE=DATE-TIME:20191025T210000
DTSTAMP;VALUE=DATE-TIME:20260424T084038Z
UID:a4249851a84743be8364fb6c26a4d4d7@portal.unila.edu.br
CONTACT:https://portal.unila.edu.br/eventos/siepe/
CREATED;VALUE=DATE-TIME:20190415T182751Z
DESCRIPTION:Bioeconomia: diversidade e riqueza para o desenvolvimento sust
 entável
LAST-MODIFIED;VALUE=DATE-TIME:20190828T133352Z
URL:https://portal.unila.edu.br/eventos/ii-siepe
END:VEVENT
BEGIN:VTIMEZONE
TZID:America/Sao_Paulo
X-LIC-LOCATION:America/Sao_Paulo
BEGIN:DAYLIGHT
DTSTART;VALUE=DATE-TIME:20191020T010000
TZNAME:BRST
TZOFFSETFROM:-0300
TZOFFSETTO:-0200
END:DAYLIGHT
END:VTIMEZONE
END:VCALENDAR
