BEGIN:VCALENDAR
VERSION:2.0
PRODID:-//Plone.org//NONSGML plone.app.event//EN
X-WR-TIMEZONE:America/Buenos_Aires
BEGIN:VEVENT
SUMMARY:2º Seminário Trabalho e Trabalhadores na América Latina e Carib
 e
DTSTART;TZID=America/Sao_Paulo;VALUE=DATE-TIME:20190423T190000
DTEND;TZID=America/Sao_Paulo;VALUE=DATE-TIME:20190423T200000
DTSTAMP;VALUE=DATE-TIME:20260423T225735Z
UID:c22ad140244b4832b98ad043e870b94c@portal.unila.edu.br
CREATED;VALUE=DATE-TIME:20190219T151048Z
DESCRIPTION:Evento é promovido pelo Grupo de Pesquisa sobre Trabalho (UNI
 LA/CNPq)
LAST-MODIFIED;VALUE=DATE-TIME:20190416T130547Z
LOCATION:Jardim Universitário - Avenida Tarquínio Joslin dos Santos\, 10
 00
URL:https://portal.unila.edu.br/eventos/ii-seminario-trabalho-e-trabalhado
 res-na-america-latina-e-caribe
END:VEVENT
BEGIN:VTIMEZONE
TZID:America/Sao_Paulo
X-LIC-LOCATION:America/Sao_Paulo
BEGIN:STANDARD
DTSTART;VALUE=DATE-TIME:20190216T230000
TZNAME:BRT
TZOFFSETFROM:-0200
TZOFFSETTO:-0300
END:STANDARD
END:VTIMEZONE
END:VCALENDAR
