BEGIN:VCALENDAR
VERSION:2.0
PRODID:-//Plone.org//NONSGML plone.app.event//EN
X-WR-TIMEZONE:America/Buenos_Aires
BEGIN:VEVENT
SUMMARY:II Seminário Internacional Educação Superior na América Latina
  e Caribe
DTSTART;TZID=America/Buenos_Aires;VALUE=DATE-TIME:20221206T140000
DTEND;TZID=America/Buenos_Aires;VALUE=DATE-TIME:20221209T230000
DTSTAMP;VALUE=DATE-TIME:20260423T225944Z
UID:31b8fc659e1b404a9ee40cafb85eae34@portal.unila.edu.br
CREATED;VALUE=DATE-TIME:20221201T220743Z
DESCRIPTION:Encontros serão realizados na UNILA e UNIOESTE
LAST-MODIFIED;VALUE=DATE-TIME:20221207T165611Z
LOCATION:UNILA - Jardim Universitário e UNIOESTE
URL:https://portal.unila.edu.br/eventos/ii-seminario-internacional-educaca
 o-superior-na-america-latina-e-caribe
END:VEVENT
BEGIN:VTIMEZONE
TZID:America/Buenos_Aires
X-LIC-LOCATION:America/Buenos_Aires
BEGIN:STANDARD
DTSTART;VALUE=DATE-TIME:20090314T230000
TZNAME:ART
TZOFFSETFROM:-0200
TZOFFSETTO:-0300
END:STANDARD
END:VTIMEZONE
END:VCALENDAR
