BEGIN:VCALENDAR
VERSION:2.0
PRODID:-//Plone.org//NONSGML plone.app.event//EN
X-WR-TIMEZONE:America/Buenos_Aires
BEGIN:VEVENT
SUMMARY:2ª Semana de Práticas Integrativas e Holísticas UNILA
DTSTART;TZID=America/Sao_Paulo;VALUE=DATE-TIME:20190402T090000
DTEND;TZID=America/Sao_Paulo;VALUE=DATE-TIME:20190405T200000
DTSTAMP;VALUE=DATE-TIME:20260424T112053Z
UID:bf29c0786b4b4ff6a10eb8ebb70e257b@portal.unila.edu.br
CONTACT:https://www.facebook.com/events/382867058960738/
CREATED;VALUE=DATE-TIME:20190401T144615Z
DESCRIPTION:A semana de praticas Integrativas e holísticas UNILA\, organi
 zada pelo projeto Consciência em Transe\, tem como objetivo aproximar a c
 omunidade acadêmica e externa de ferramentas que auxiliam  no reequilíbr
 io mental\, emocional\, físico e espiritual
LAST-MODIFIED;VALUE=DATE-TIME:20190401T191715Z
LOCATION:UNILA - Jardim Universitário - Av. Tarquínio Joslin dos Santos\
 , 1000
URL:https://portal.unila.edu.br/eventos/ii-semana-de-praticas-integrativas
 -e-holisticas-unila
END:VEVENT
BEGIN:VTIMEZONE
TZID:America/Sao_Paulo
X-LIC-LOCATION:America/Sao_Paulo
BEGIN:STANDARD
DTSTART;VALUE=DATE-TIME:20190216T230000
TZNAME:BRT
TZOFFSETFROM:-0200
TZOFFSETTO:-0300
END:STANDARD
END:VTIMEZONE
END:VCALENDAR
