BEGIN:VCALENDAR
VERSION:2.0
PRODID:-//Plone.org//NONSGML plone.app.event//EN
X-WR-TIMEZONE:America/Buenos_Aires
BEGIN:VEVENT
SUMMARY:2ª Semana de Meditação da UNILA
DTSTART;TZID=America/Sao_Paulo;VALUE=DATE-TIME:20190318T173000
DTEND;TZID=America/Sao_Paulo;VALUE=DATE-TIME:20190322T183000
DTSTAMP;VALUE=DATE-TIME:20260423T224939Z
UID:6cefee9aac03443ba3b317b7cf6a2d9f@portal.unila.edu.br
CONTACT:https://www.facebook.com/events/365128224072646/
CREATED;VALUE=DATE-TIME:20190225T161333Z
DESCRIPTION:Projeto Consciência em Transe tem como objetivo aproximar a c
 omunidade das diferentes praticas de meditação
LAST-MODIFIED;VALUE=DATE-TIME:20190225T165545Z
LOCATION:Gramado do Jardim Universitário - Avenida Tarquínio Joslin dos 
 Santos\, 1000
URL:https://portal.unila.edu.br/eventos/ii-semana-de-meditacao-unila
END:VEVENT
BEGIN:VTIMEZONE
TZID:America/Sao_Paulo
X-LIC-LOCATION:America/Sao_Paulo
BEGIN:STANDARD
DTSTART;VALUE=DATE-TIME:20190216T230000
TZNAME:BRT
TZOFFSETFROM:-0200
TZOFFSETTO:-0300
END:STANDARD
END:VTIMEZONE
END:VCALENDAR
