BEGIN:VCALENDAR
VERSION:2.0
PRODID:-//Plone.org//NONSGML plone.app.event//EN
X-WR-TIMEZONE:America/Buenos_Aires
BEGIN:VEVENT
SUMMARY:2ª Semana da Pessoa com Síndrome de Down
DTSTART;TZID=America/Sao_Paulo;VALUE=DATE-TIME:20190321T190000
DTEND;TZID=America/Sao_Paulo;VALUE=DATE-TIME:20190323T140000
DTSTAMP;VALUE=DATE-TIME:20260424T084203Z
UID:fcdd29da97364e8d95fbb54fde27a0b5@portal.unila.edu.br
CREATED;VALUE=DATE-TIME:20190311T123612Z
DESCRIPTION:Programação conta com palestras\, mesas de debate e minicurs
 os
LAST-MODIFIED;VALUE=DATE-TIME:20190320T165735Z
LOCATION:Auditório do Jardim Universitário - Avenida Tarquínio Joslin d
 os Santos\, 1000
URL:https://portal.unila.edu.br/eventos/ii-semana-da-pessoa-com-sindrome-d
 e-down
END:VEVENT
BEGIN:VTIMEZONE
TZID:America/Sao_Paulo
X-LIC-LOCATION:America/Sao_Paulo
BEGIN:STANDARD
DTSTART;VALUE=DATE-TIME:20190216T230000
TZNAME:BRT
TZOFFSETFROM:-0200
TZOFFSETTO:-0300
END:STANDARD
END:VTIMEZONE
END:VCALENDAR
