BEGIN:VCALENDAR
VERSION:2.0
PRODID:-//Plone.org//NONSGML plone.app.event//EN
X-WR-TIMEZONE:America/Buenos_Aires
BEGIN:VEVENT
SUMMARY:II Monitoramento participativo das áreas do Plano Municipal da Ma
 ta Atlântica (PMMA) - área Almada
DTSTART;TZID=America/Buenos_Aires;VALUE=DATE-TIME:20230423T083000
DTEND;TZID=America/Buenos_Aires;VALUE=DATE-TIME:20230423T113000
DTSTAMP;VALUE=DATE-TIME:20260424T113418Z
UID:ea479bb2b860438aa34300b39ab3de7a@portal.unila.edu.br
CONTACT:Luciana Mello Ribeiro\, 45 9915-3496\, hc.messias.2021@aluno.unila
 .edu.br\, https://forms.gle/YRCpcaKYk3LX44fX7
CREATED;VALUE=DATE-TIME:20230420T175917Z
DESCRIPTION:A condução do monitoramento será da bióloga\, formada pela
  UNILA\, Mariana Meneses
LAST-MODIFIED;VALUE=DATE-TIME:20230420T180318Z
LOCATION:Trilha do Almada
URL:https://portal.unila.edu.br/eventos/ii-monitoramento-participativo-das
 -areas-do-plano-municipal-da-mata-atlantica-pmma-area-almada
END:VEVENT
BEGIN:VTIMEZONE
TZID:America/Buenos_Aires
X-LIC-LOCATION:America/Buenos_Aires
BEGIN:STANDARD
DTSTART;VALUE=DATE-TIME:20090314T230000
TZNAME:ART
TZOFFSETFROM:-0200
TZOFFSETTO:-0300
END:STANDARD
END:VTIMEZONE
END:VCALENDAR
