BEGIN:VCALENDAR
VERSION:2.0
PRODID:-//Plone.org//NONSGML plone.app.event//EN
X-WR-TIMEZONE:America/Buenos_Aires
BEGIN:VEVENT
SUMMARY:2ª Jornada Fladem Brasil
DTSTART;TZID=America/Sao_Paulo;VALUE=DATE-TIME:20190413T090000
DTEND;TZID=America/Sao_Paulo;VALUE=DATE-TIME:20190413T190000
DTSTAMP;VALUE=DATE-TIME:20260424T040955Z
UID:0c935c843652463b86c99c958c3a3852@portal.unila.edu.br
CREATED;VALUE=DATE-TIME:20190401T143635Z
DESCRIPTION:A 2ª Jornada Fladem Brasil busca divulgar\, em nível naciona
 l\, o que orienta o trabalho do Fórum Latino Americano de Educação Musi
 cal
LAST-MODIFIED;VALUE=DATE-TIME:20190410T125930Z
LOCATION:UNILA - Jardim Universitário - Av. Tarquínio Joslin dos Santos\
 , 1000
URL:https://portal.unila.edu.br/eventos/ii-jornada-fladem-brasil
END:VEVENT
BEGIN:VTIMEZONE
TZID:America/Sao_Paulo
X-LIC-LOCATION:America/Sao_Paulo
BEGIN:STANDARD
DTSTART;VALUE=DATE-TIME:20190216T230000
TZNAME:BRT
TZOFFSETFROM:-0200
TZOFFSETTO:-0300
END:STANDARD
END:VTIMEZONE
END:VCALENDAR
