BEGIN:VCALENDAR
VERSION:2.0
PRODID:-//Plone.org//NONSGML plone.app.event//EN
X-WR-TIMEZONE:America/Buenos_Aires
BEGIN:VEVENT
SUMMARY:2º Festival Latino-Americano de Música
DTSTART;TZID=America/Sao_Paulo;VALUE=DATE-TIME:20190811T100000
DTEND;TZID=America/Sao_Paulo;VALUE=DATE-TIME:20190818T130000
DTSTAMP;VALUE=DATE-TIME:20260423T230342Z
UID:6614f07a36544addb0e538d82089d3cf@portal.unila.edu.br
CONTACT:unilamusica@gmail.com\, https://www.facebook.com/musicaunila
CREATED;VALUE=DATE-TIME:20190808T130837Z
DESCRIPTION:A segunda edição do FLAM ocorre entre os dias 11 e 18 de ago
 sto
LAST-MODIFIED;VALUE=DATE-TIME:20190812T125458Z
URL:https://portal.unila.edu.br/eventos/ii-flam-festival-latino-americano-
 de-musica
END:VEVENT
BEGIN:VTIMEZONE
TZID:America/Sao_Paulo
X-LIC-LOCATION:America/Sao_Paulo
BEGIN:STANDARD
DTSTART;VALUE=DATE-TIME:20190216T230000
TZNAME:BRT
TZOFFSETFROM:-0200
TZOFFSETTO:-0300
END:STANDARD
END:VTIMEZONE
END:VCALENDAR
