BEGIN:VCALENDAR
VERSION:2.0
PRODID:-//Plone.org//NONSGML plone.app.event//EN
X-WR-TIMEZONE:America/Buenos_Aires
BEGIN:VEVENT
SUMMARY:II FIS-UNILA – Fórum de Inovação Social: Políticas Públicas
  de Fomento às Tecnologias Sociais
DTSTART;TZID=America/Buenos_Aires;VALUE=DATE-TIME:20230511T190000
DTSTAMP;VALUE=DATE-TIME:20260424T051415Z
UID:1e1684c0df5c4d2cafaaae33187605d8@portal.unila.edu.br
CREATED;VALUE=DATE-TIME:20230420T173752Z
DESCRIPTION:O evento contará com a participação de Representantes do Po
 der Público\; Casos de Inovações Sociais entre Universidade e a Comunid
 ade\; e entre Empresas e a Sociedade
LAST-MODIFIED;VALUE=DATE-TIME:20230508T164343Z
LOCATION:UNILA\, campus Jardim Universitário
URL:https://portal.unila.edu.br/eventos/ii-fis-unila-2013-forum-de-inovaca
 o-social-politicas-publicas-de-fomento-as-tecnologias-sociais
END:VEVENT
BEGIN:VTIMEZONE
TZID:America/Buenos_Aires
X-LIC-LOCATION:America/Buenos_Aires
BEGIN:STANDARD
DTSTART;VALUE=DATE-TIME:20090314T230000
TZNAME:ART
TZOFFSETFROM:-0200
TZOFFSETTO:-0300
END:STANDARD
END:VTIMEZONE
END:VCALENDAR
