BEGIN:VCALENDAR
VERSION:2.0
PRODID:-//Plone.org//NONSGML plone.app.event//EN
X-WR-TIMEZONE:America/Buenos_Aires
BEGIN:VEVENT
SUMMARY:I Simpósio Acadêmico sobre Sociedade\, Instituições e Serviço
  Social da UNILA
DTSTART;TZID=America/Buenos_Aires;VALUE=DATE-TIME:20230515T170000
DTEND;TZID=America/Buenos_Aires;VALUE=DATE-TIME:20230515T220000
DTSTAMP;VALUE=DATE-TIME:20260423T230947Z
UID:c724af1358804b39b9f962831c5cfc6a@portal.unila.edu.br
CONTACT:https://forms.gle/bMrmoL7xJZvf5bV46
CREATED;VALUE=DATE-TIME:20230508T163515Z
DESCRIPTION:Atividade em comemoração ao Dia do Assistente Social é orga
 nizada pelo Curso de Serviço Social
LAST-MODIFIED;VALUE=DATE-TIME:20230508T165935Z
LOCATION:Campus Integração - Auditório
URL:https://portal.unila.edu.br/eventos/i-simposio-academico-sobre-socieda
 de-instituicoes-e-servico-social-da-unila
END:VEVENT
BEGIN:VTIMEZONE
TZID:America/Buenos_Aires
X-LIC-LOCATION:America/Buenos_Aires
BEGIN:STANDARD
DTSTART;VALUE=DATE-TIME:20090314T230000
TZNAME:ART
TZOFFSETFROM:-0200
TZOFFSETTO:-0300
END:STANDARD
END:VTIMEZONE
END:VCALENDAR
