BEGIN:VCALENDAR
VERSION:2.0
PRODID:-//Plone.org//NONSGML plone.app.event//EN
X-WR-TIMEZONE:America/Buenos_Aires
BEGIN:VEVENT
SUMMARY:I Seminário Internacional do IMEA
DTSTART;VALUE=DATE:20231009
DTEND;VALUE=DATE:20231012
DTSTAMP;VALUE=DATE-TIME:20260424T084307Z
UID:e7b419a7baaa4f9992568eda50d0efff@portal.unila.edu.br
CONTACT:https://sig.unila.edu.br/eventos/public/evento/IMEASABERES
CREATED;VALUE=DATE-TIME:20230914T132016Z
DESCRIPTION:Instituto Mercosul de Estudos Avançados (IMEA) promove\, de 9
  a 11 de outubro\, seminário internacional com a temática Sentipensar os
  Estudos Transdisciplinares e Encontro de Saberes
LAST-MODIFIED;VALUE=DATE-TIME:20231006T162619Z
LOCATION:Auditório da UNILA-Jardim Universitário (Avenida Tarquínio Jos
 lin dos Santos\, 1000)
URL:https://portal.unila.edu.br/eventos/i-seminario-internacional-do-imea
END:VEVENT
END:VCALENDAR
