BEGIN:VCALENDAR
VERSION:2.0
PRODID:-//Plone.org//NONSGML plone.app.event//EN
X-WR-TIMEZONE:America/Buenos_Aires
BEGIN:VEVENT
SUMMARY:I Seminário Interdisciplinar sobre Desigualdades\, Violência e P
 olíticas Públicas
DTSTART;TZID=America/Buenos_Aires;VALUE=DATE-TIME:20221128T183000
DTEND;TZID=America/Buenos_Aires;VALUE=DATE-TIME:20221129T223000
DTSTAMP;VALUE=DATE-TIME:20260423T202457Z
UID:90ef8ba87f4d41caa49415c8a325a222@portal.unila.edu.br
CONTACT:https://www.even3.com.br/i-seminario-interdisciplinar-sobre-desigu
 aldades-violencia-e-politicas-publicas-de-seguranca-na-america-latina-e-no
 -caribe-296434/
CREATED;VALUE=DATE-TIME:20221116T113906Z
DESCRIPTION:Seminário objetiva realizar uma abordagem interdisciplinar de
  temas como violência\, políticas públicas de segurança e aprisionamen
 to nos países da América Latina
LAST-MODIFIED;VALUE=DATE-TIME:20221116T113922Z
LOCATION:Auditório do Campus Integração
URL:https://portal.unila.edu.br/eventos/i-seminario-interdisciplinar-sobre
 -desigualdades-violencia-e-politicas-publicas
END:VEVENT
BEGIN:VTIMEZONE
TZID:America/Buenos_Aires
X-LIC-LOCATION:America/Buenos_Aires
BEGIN:STANDARD
DTSTART;VALUE=DATE-TIME:20090314T230000
TZNAME:ART
TZOFFSETFROM:-0200
TZOFFSETTO:-0300
END:STANDARD
END:VTIMEZONE
END:VCALENDAR
