BEGIN:VCALENDAR
VERSION:2.0
PRODID:-//Plone.org//NONSGML plone.app.event//EN
X-WR-TIMEZONE:America/Buenos_Aires
BEGIN:VEVENT
SUMMARY:I Semana de Cultura\, Ensino\, Pesquisa e Extensão
DTSTART;TZID=America/Sao_Paulo;VALUE=DATE-TIME:20181016T093000
DTEND;TZID=America/Sao_Paulo;VALUE=DATE-TIME:20181019T213000
DTSTAMP;VALUE=DATE-TIME:20260423T133858Z
UID:7c1e9988eb89468fb13686deaa35342a@tibagi.unila
CATEGORIES:ensino
CATEGORIES:pesquisa
CATEGORIES:extensão
CREATED;VALUE=DATE-TIME:20181003T184412Z
DESCRIPTION:Semana dedicada para realização de atividades de Ensino\, Pe
 squisa\, Extensão e Cultura da Unila
LAST-MODIFIED;VALUE=DATE-TIME:20190112T022528Z
LOCATION:UNILA Jardim Universitário
URL:https://portal.unila.edu.br/eventos/i-semana-de-cultura-ensino-pesquis
 a-e-extensao
END:VEVENT
BEGIN:VTIMEZONE
TZID:America/Sao_Paulo
X-LIC-LOCATION:America/Sao_Paulo
BEGIN:STANDARD
DTSTART;VALUE=DATE-TIME:20180217T230000
TZNAME:BRT
TZOFFSETFROM:-0200
TZOFFSETTO:-0300
END:STANDARD
END:VTIMEZONE
END:VCALENDAR
