BEGIN:VCALENDAR
VERSION:2.0
PRODID:-//Plone.org//NONSGML plone.app.event//EN
X-WR-TIMEZONE:America/Buenos_Aires
BEGIN:VEVENT
SUMMARY:I Congresso Internacional de Formação de Professores na América
  Latina
DTSTART;TZID=America/Buenos_Aires;VALUE=DATE-TIME:20240319T190000
DTEND;TZID=America/Buenos_Aires;VALUE=DATE-TIME:20240322T220000
DTSTAMP;VALUE=DATE-TIME:20260424T010042Z
UID:411aafc3d0544d6aafb40cf58d464ca8@portal.unila.edu.br
CREATED;VALUE=DATE-TIME:20240228T133439Z
DESCRIPTION:O congresso\, promovido pelo Fórum das Licenciaturas da UNILA
 \, tem como tema: "A educação em debate"
LAST-MODIFIED;VALUE=DATE-TIME:20240228T134955Z
LOCATION:Auditório da UNILA-JU
URL:https://portal.unila.edu.br/eventos/i-congresso-internacional-de-forma
 cao-de-professores-na-america-latina
END:VEVENT
BEGIN:VTIMEZONE
TZID:America/Buenos_Aires
X-LIC-LOCATION:America/Buenos_Aires
BEGIN:STANDARD
DTSTART;VALUE=DATE-TIME:20090314T230000
TZNAME:ART
TZOFFSETFROM:-0200
TZOFFSETTO:-0300
END:STANDARD
END:VTIMEZONE
END:VCALENDAR
