BEGIN:VCALENDAR
VERSION:2.0
PRODID:-//Plone.org//NONSGML plone.app.event//EN
X-WR-TIMEZONE:America/Buenos_Aires
BEGIN:VEVENT
SUMMARY:I Colóquio de Educação Geográfica\, Interdisciplinaridade e Ed
 ucação Inclusiva
DTSTART;TZID=America/Sao_Paulo;VALUE=DATE-TIME:20190325T190000
DTEND;TZID=America/Sao_Paulo;VALUE=DATE-TIME:20190325T220000
DTSTAMP;VALUE=DATE-TIME:20260424T112433Z
UID:2e88474f22894217bca43f42dfd58c0a@portal.unila.edu.br
CREATED;VALUE=DATE-TIME:20190327T133146Z
DESCRIPTION:Evento organizado pelo curso de geografia\, conta com professo
 res de outras universidades e acontece até o dia 27 de Março.
LAST-MODIFIED;VALUE=DATE-TIME:20190327T133317Z
LOCATION:Auditório Cesar Lattes - UNILA Campus PTI
URL:https://portal.unila.edu.br/eventos/i-coloquio-de-educacao-geografica-
 interdisciplinaridade-e-educacao-inclusiva
END:VEVENT
BEGIN:VTIMEZONE
TZID:America/Sao_Paulo
X-LIC-LOCATION:America/Sao_Paulo
BEGIN:STANDARD
DTSTART;VALUE=DATE-TIME:20190216T230000
TZNAME:BRT
TZOFFSETFROM:-0200
TZOFFSETTO:-0300
END:STANDARD
END:VTIMEZONE
END:VCALENDAR
