BEGIN:VCALENDAR
VERSION:2.0
PRODID:-//Plone.org//NONSGML plone.app.event//EN
X-WR-TIMEZONE:America/Buenos_Aires
BEGIN:VEVENT
SUMMARY:I Ciclo de Diálogos em Antropologia e Diversidade Cultural Latino
 -Americana
DTSTART;TZID=America/Buenos_Aires;VALUE=DATE-TIME:20241213T190000
DTSTAMP;VALUE=DATE-TIME:20260423T225216Z
UID:d1514bc888284c788840cfdd7a408be4@portal.unila.edu.br
CREATED;VALUE=DATE-TIME:20241213T121719Z
DESCRIPTION:Ocorre nesta sexta (13)\, a palestra com Annel Mejías\, com o
  tema "Estado y Espiritismo de María Lionza en Venezuela: traslados simb
 ólicos".
LAST-MODIFIED;VALUE=DATE-TIME:20241213T122824Z
LOCATION:UNILA - Campus Integração
URL:https://portal.unila.edu.br/eventos/i-ciclo-de-antropologia-e-diversid
 ade-cultural-latino-americana
END:VEVENT
BEGIN:VTIMEZONE
TZID:America/Buenos_Aires
X-LIC-LOCATION:America/Buenos_Aires
BEGIN:STANDARD
DTSTART;VALUE=DATE-TIME:20090314T230000
TZNAME:ART
TZOFFSETFROM:-0200
TZOFFSETTO:-0300
END:STANDARD
END:VTIMEZONE
END:VCALENDAR
