BEGIN:VCALENDAR
VERSION:2.0
PRODID:-//Plone.org//NONSGML plone.app.event//EN
X-WR-TIMEZONE:America/Buenos_Aires
BEGIN:VEVENT
SUMMARY:Grupo de Leitura: "Manos de mujeres: mirada femenina en la creaci
 ón musical"
DTSTART;TZID=America/Buenos_Aires;VALUE=DATE-TIME:20230801T183000
DTSTAMP;VALUE=DATE-TIME:20260424T032636Z
UID:d2b9414d97144b31bd9a201950490f47@portal.unila.edu.br
CREATED;VALUE=DATE-TIME:20230727T144645Z
DESCRIPTION:Primeira reunião do grupo ocorrerá no dia 1 de agosto\, às 
 18h30\, no Jardim Universitário
LAST-MODIFIED;VALUE=DATE-TIME:20230727T144650Z
LOCATION:Sala Sahyan (C203) - Jardim Universitário
URL:https://portal.unila.edu.br/eventos/grupo-de-leitura-manos-de-mujeres-
 mirada-femenina-en-la-creacion-musical
END:VEVENT
BEGIN:VTIMEZONE
TZID:America/Buenos_Aires
X-LIC-LOCATION:America/Buenos_Aires
BEGIN:STANDARD
DTSTART;VALUE=DATE-TIME:20090314T230000
TZNAME:ART
TZOFFSETFROM:-0200
TZOFFSETTO:-0300
END:STANDARD
END:VTIMEZONE
END:VCALENDAR
