BEGIN:VCALENDAR
VERSION:2.0
PRODID:-//Plone.org//NONSGML plone.app.event//EN
X-WR-TIMEZONE:America/Buenos_Aires
BEGIN:VEVENT
SUMMARY:Grito en el cielo: mini-curso de canto latino-americano
DTSTART;TZID=America/Buenos_Aires;VALUE=DATE-TIME:20230427T110000
DTEND;TZID=America/Buenos_Aires;VALUE=DATE-TIME:20230502T120000
DTSTAMP;VALUE=DATE-TIME:20260424T112259Z
UID:61edace510674f348d8df896de902c64@portal.unila.edu.br
CONTACT:https://sig.unila.edu.br/sigaa/public/extensao/paginaListaPeriodos
 InscricoesAtividadesPublico.jsf?aba=p-extensao
CREATED;VALUE=DATE-TIME:20230426T143912Z
DESCRIPTION:Mini-curso de canto latino-americano ocorrerá no mês de maio
  inscrições vão até dia 02.
LAST-MODIFIED;VALUE=DATE-TIME:20230426T143957Z
LOCATION:UNILA - Jardim Universitário
URL:https://portal.unila.edu.br/eventos/grito-en-el-cielo-mini-curso-de-ca
 nto-latino-americano
END:VEVENT
BEGIN:VTIMEZONE
TZID:America/Buenos_Aires
X-LIC-LOCATION:America/Buenos_Aires
BEGIN:STANDARD
DTSTART;VALUE=DATE-TIME:20090314T230000
TZNAME:ART
TZOFFSETFROM:-0200
TZOFFSETTO:-0300
END:STANDARD
END:VTIMEZONE
END:VCALENDAR
