BEGIN:VCALENDAR
VERSION:2.0
PRODID:-//Plone.org//NONSGML plone.app.event//EN
X-WR-TIMEZONE:America/Buenos_Aires
BEGIN:VEVENT
SUMMARY:Giro decolonial: conceitos e temas
DTSTART;TZID=America/Sao_Paulo;VALUE=DATE-TIME:20201126T090000
DTEND;TZID=America/Sao_Paulo;VALUE=DATE-TIME:20201126T120000
DTSTAMP;VALUE=DATE-TIME:20260424T031841Z
UID:6c7f2e1d96d740469b007e5f6aa6828d@portal.unila.edu.br
CREATED;VALUE=DATE-TIME:20201124T125629Z
DESCRIPTION:“Elos perdidos e rotas em aberto” será o tema desta quint
 a-feira (26)
LAST-MODIFIED;VALUE=DATE-TIME:20201124T130016Z
URL:https://portal.unila.edu.br/eventos/giro-decolonial-conceitos-e-temas
END:VEVENT
BEGIN:VTIMEZONE
TZID:America/Sao_Paulo
X-LIC-LOCATION:America/Sao_Paulo
BEGIN:DAYLIGHT
DTSTART;VALUE=DATE-TIME:20201018T010000
TZNAME:BRST
TZOFFSETFROM:-0300
TZOFFSETTO:-0200
END:DAYLIGHT
END:VTIMEZONE
END:VCALENDAR
