BEGIN:VCALENDAR
VERSION:2.0
PRODID:-//Plone.org//NONSGML plone.app.event//EN
X-WR-TIMEZONE:America/Buenos_Aires
BEGIN:VEVENT
SUMMARY:Fórum: PGD e Teletrabalho na UNILA
DTSTART;TZID=America/Buenos_Aires;VALUE=DATE-TIME:20240515T180000
DTEND;TZID=America/Buenos_Aires;VALUE=DATE-TIME:20240515T200000
DTSTAMP;VALUE=DATE-TIME:20260424T101503Z
UID:0a09a0067d5a4cd4ba4a2a72e7f95efb@portal.unila.edu.br
CREATED;VALUE=DATE-TIME:20240326T001501Z
DESCRIPTION:Toda a comunidade universitária está convidada para discutir
  o programa de gestão por desempenho (PGD) e o Teletrabalho\, vigentes de
 sde 2022\, na UNILA.
LAST-MODIFIED;VALUE=DATE-TIME:20240513T192658Z
LOCATION:auditório do campus Jardim Universitário
URL:https://portal.unila.edu.br/eventos/forum-o-pgd-e-o-teletrabalho-na-un
 ila
END:VEVENT
BEGIN:VTIMEZONE
TZID:America/Buenos_Aires
X-LIC-LOCATION:America/Buenos_Aires
BEGIN:STANDARD
DTSTART;VALUE=DATE-TIME:20090314T230000
TZNAME:ART
TZOFFSETFROM:-0200
TZOFFSETTO:-0300
END:STANDARD
END:VTIMEZONE
END:VCALENDAR
